BEGIN:VCALENDAR
VERSION:2.0
PRODID:-//Miners Pub - Ein Stück Irland in Freiberg//NONSGML kigkonsult.se 
 iCalcreator 2.30.10//
CALSCALE:GREGORIAN
METHOD:PUBLISH
UID:83caa2bd-ed26-451f-9522-9a56a0771662
X-WR-CALNAME:iCagenda
X-WR-CALDESC:Event Management Extension for Joomla!
X-WR-RELCALID:3E26604A-50F4-4449-8B3E-E4F4932D05B5
X-WR-TIMEZONE:Europe/Berlin
BEGIN:VTIMEZONE
TZID:Europe/Berlin
BEGIN:STANDARD
TZNAME:CET
DTSTART:20181028T030000
TZOFFSETFROM:+0200
TZOFFSETTO:+0100
RDATE:20191027T030000
END:STANDARD
BEGIN:DAYLIGHT
TZNAME:CEST
DTSTART:20180325T020000
TZOFFSETFROM:+0100
TZOFFSETTO:+0200
RDATE:20190331T020000
RDATE:20200329T020000
END:DAYLIGHT
END:VTIMEZONE
BEGIN:VEVENT
UID:f23d91a8-7827-4d88-8cc5-5ad7f88bb64b
DTSTAMP:20260420T165207Z
CATEGORIES:Livemusik
CLASS:PUBLIC
DESCRIPTION;ALTREP="CID:<FFFF__=0ABBE548DFE235B58f9e8a93d@coffeebean.com>":
 Am 8. Dezember 2018 gibt es bei uns mal wieder feinste Live-Musik für euch
  zu hören! Motor Funk Inc. - Unplugged Live bei uns im Miners Pub - Eintri
 tt ist wie immer frei.
DTSTART:20181208T190000Z
DTEND:20181208T190000Z
GEO:00;0
LOCATION:
ORGANIZER:
SEQUENCE:1
SUMMARY:Motor Funk Inc. - Unplugged Live
TRANSP:OPAQUE
URL:https://www.minerspub.de/index.php/events/31-motor-funk-inc-unplugged-l
 ive/2018-12-08-20-00
END:VEVENT
END:VCALENDAR
