BEGIN:VCALENDAR
VERSION:2.0
PRODID:-//Miners Pub - Ein Stück Irland in Freiberg//NONSGML kigkonsult.se 
 iCalcreator 2.30.10//
CALSCALE:GREGORIAN
METHOD:PUBLISH
UID:4c3f8d31-9336-4f37-980a-edda724a4e91
X-WR-CALNAME:iCagenda
X-WR-CALDESC:Event Management Extension for Joomla!
X-WR-RELCALID:3E26604A-50F4-4449-8B3E-E4F4932D05B5
X-WR-TIMEZONE:Europe/Berlin
BEGIN:VTIMEZONE
TZID:Europe/Berlin
BEGIN:STANDARD
TZNAME:CET
DTSTART:20171029T030000
TZOFFSETFROM:+0200
TZOFFSETTO:+0100
RDATE:20181028T030000
END:STANDARD
BEGIN:DAYLIGHT
TZNAME:CEST
DTSTART:20170326T020000
TZOFFSETFROM:+0100
TZOFFSETTO:+0200
RDATE:20180325T020000
RDATE:20190331T020000
END:DAYLIGHT
END:VTIMEZONE
BEGIN:VEVENT
UID:cf6b3c7b-694d-4ffe-b521-3b0d7c3d6b44
DTSTAMP:20260420T182922Z
CATEGORIES:Livemusik
CLASS:PUBLIC
DESCRIPTION;ALTREP="CID:<FFFF__=0ABBE548DFE235B58f9e8a93d@coffeebean.com>":
 Wir wollen mit euch den wohl wichtigsten irischen Feiertag zelebrieren! Au
 ch in diesem Jahr haben wir wieder erstklassige Live-Musik für euch am Sta
 rt. Mit Gerard Donnelly haben wir einen waschechten Iren und guten alten B
 ekannten bei uns auf der Bühne.\nAb 15 Uhr haben wir bereits zum Bundeslig
 a Nachmittag für euch geöffnet\, Live-Musik gibt es ab ca. 21 Uhr. Kommt v
 orbei\, frühes Kommen sichert gute Plätze. \;) Wir freuen uns auf Euch!
DTSTART:20180317T140000Z
DTEND:20180317T140000Z
GEO:00;0
LOCATION:
ORGANIZER:
SEQUENCE:1
SUMMARY:St. Patrick's Day Party 2018 mit Gerard Donnelly LIVE
TRANSP:OPAQUE
URL:https://www.minerspub.de/index.php/events/37-st-patricks-day-party-2018
 -mit-gerard-donnelly-live/2018-03-17-15-00
END:VEVENT
END:VCALENDAR
