BEGIN:VCALENDAR
VERSION:2.0
PRODID:-//Miners Pub - Ein Stück Irland in Freiberg//NONSGML kigkonsult.se 
 iCalcreator 2.30.10//
CALSCALE:GREGORIAN
METHOD:PUBLISH
UID:9de6da7d-0631-4288-a060-f55d0b75f006
X-WR-CALNAME:iCagenda
X-WR-CALDESC:Event Management Extension for Joomla!
X-WR-RELCALID:3E26604A-50F4-4449-8B3E-E4F4932D05B5
X-WR-TIMEZONE:Europe/Berlin
BEGIN:VTIMEZONE
TZID:Europe/Berlin
BEGIN:STANDARD
TZNAME:CET
DTSTART:20211031T030000
TZOFFSETFROM:+0200
TZOFFSETTO:+0100
RDATE:20221030T030000
RDATE:20231029T030000
END:STANDARD
BEGIN:DAYLIGHT
TZNAME:CEST
DTSTART:20220327T020000
TZOFFSETFROM:+0100
TZOFFSETTO:+0200
RDATE:20230326T020000
END:DAYLIGHT
END:VTIMEZONE
BEGIN:VEVENT
UID:a244ebb6-f458-49a5-bcca-3cb4278734e9
DTSTAMP:20260420T151009Z
CATEGORIES:Partys
CLASS:PUBLIC
DESCRIPTION;ALTREP="CID:<FFFF__=0ABBE548DFE235B58f9e8a93d@coffeebean.com>":
 Auch in diesem Jahr gibt es wieder unsere Saisonabschlussfeier mit der Aus
 wertung des Tippspiels und der Siegerehrung mit vielen weiteren Überraschu
 ngen! Es dürfen natürlich auch alle mitmachen\, die nicht mitgetippt haben
 .
DTSTART:20220709T170000Z
DTEND:20220709T170000Z
GEO:00;0
LOCATION:
ORGANIZER:
SEQUENCE:1
SUMMARY:Saisonabschlussfeier 2022
TRANSP:OPAQUE
URL:https://www.minerspub.de/index.php/events/5-saisonabschlussfeier-2022/2
 022-07-09-19-00
END:VEVENT
END:VCALENDAR
