BEGIN:VCALENDAR
VERSION:2.0
PRODID:-//Miners Pub - Ein Stück Irland in Freiberg//NONSGML kigkonsult.se 
 iCalcreator 2.30.10//
CALSCALE:GREGORIAN
METHOD:PUBLISH
UID:7cefcdaf-6f88-4554-82c2-cd3feb3127f6
X-WR-CALNAME:iCagenda
X-WR-CALDESC:Event Management Extension for Joomla!
X-WR-RELCALID:3E26604A-50F4-4449-8B3E-E4F4932D05B5
X-WR-TIMEZONE:Europe/Berlin
BEGIN:VTIMEZONE
TZID:Europe/Berlin
BEGIN:STANDARD
TZNAME:CET
DTSTART:20161030T030000
TZOFFSETFROM:+0200
TZOFFSETTO:+0100
RDATE:20171029T030000
END:STANDARD
BEGIN:DAYLIGHT
TZNAME:CEST
DTSTART:20160327T020000
TZOFFSETFROM:+0100
TZOFFSETTO:+0200
RDATE:20170326T020000
RDATE:20180325T020000
END:DAYLIGHT
END:VTIMEZONE
BEGIN:VEVENT
UID:62ea1281-0a3c-4be6-bf72-7a0a0ba5e8a3
DTSTAMP:20260420T165207Z
CATEGORIES:Lesungen
CLASS:PUBLIC
DESCRIPTION;ALTREP="CID:<FFFF__=0ABBE548DFE235B58f9e8a93d@coffeebean.com>":
 Tauchen Sie ein in die gemütliche Atmosphäre des Miners Pub Freiberg mit e
 inem Hauch von Flo Durdens Mafiosi.
DTSTART:20170301T230000Z
DTEND:20170301T230000Z
GEO:00;0
LOCATION:
ORGANIZER:
SEQUENCE:1
SUMMARY:Flo Durden liest aus: Garotti - Die Geschichte eines Mafioso
TRANSP:OPAQUE
URL:https://www.minerspub.de/index.php/events/50-flo-durden-liest-aus-garot
 ti-die-geschichte-eines-mafioso/2017-03-02-00-00
END:VEVENT
END:VCALENDAR
