BEGIN:VCALENDAR
VERSION:2.0
PRODID:-//Miners Pub - Ein Stück Irland in Freiberg//NONSGML kigkonsult.se 
 iCalcreator 2.30.10//
CALSCALE:GREGORIAN
METHOD:PUBLISH
UID:3b786d8e-10a0-4164-9933-d5fb2308f2af
X-WR-CALNAME:iCagenda
X-WR-CALDESC:Event Management Extension for Joomla!
X-WR-RELCALID:3E26604A-50F4-4449-8B3E-E4F4932D05B5
X-WR-TIMEZONE:Europe/Berlin
BEGIN:VTIMEZONE
TZID:Europe/Berlin
BEGIN:STANDARD
TZNAME:CET
DTSTART:20161030T030000
TZOFFSETFROM:+0200
TZOFFSETTO:+0100
RDATE:20171029T030000
END:STANDARD
BEGIN:DAYLIGHT
TZNAME:CEST
DTSTART:20160327T020000
TZOFFSETFROM:+0100
TZOFFSETTO:+0200
RDATE:20170326T020000
RDATE:20180325T020000
END:DAYLIGHT
END:VTIMEZONE
BEGIN:VEVENT
UID:9f056ef2-178e-42b1-9df3-c8a4f22c0d89
DTSTAMP:20260420T165017Z
CATEGORIES:Livemusik
CLASS:PUBLIC
DESCRIPTION;ALTREP="CID:<FFFF__=0ABBE548DFE235B58f9e8a93d@coffeebean.com>":
 Wir feiern unseren 3. Geburtstag und präsentieren euch dafür wieder echt t
 olle Live Musik mit Johnethen Fuchs aus Dresden.
DTSTART:20170114T180000Z
DTEND:20170114T180000Z
GEO:00;0
LOCATION:
ORGANIZER:
SEQUENCE:1
SUMMARY:Geburtstagsfeier mit Johnethen Fuchs LIVE
TRANSP:OPAQUE
URL:https://www.minerspub.de/index.php/events/52-geburtstagsfeier-mit-johne
 then-fuchs-live/2017-01-14-19-00
END:VEVENT
END:VCALENDAR
