BEGIN:VCALENDAR
VERSION:2.0
PRODID:-//Miners Pub - Ein Stück Irland in Freiberg//NONSGML kigkonsult.se 
 iCalcreator 2.30.10//
CALSCALE:GREGORIAN
METHOD:PUBLISH
UID:70c1c480-d5df-4415-b281-bb7c99cae93f
X-WR-CALNAME:iCagenda
X-WR-CALDESC:Event Management Extension for Joomla!
X-WR-RELCALID:3E26604A-50F4-4449-8B3E-E4F4932D05B5
X-WR-TIMEZONE:Europe/Berlin
BEGIN:VTIMEZONE
TZID:Europe/Berlin
BEGIN:STANDARD
TZNAME:CET
DTSTART:20151025T030000
TZOFFSETFROM:+0200
TZOFFSETTO:+0100
RDATE:20161030T030000
RDATE:20171029T030000
END:STANDARD
BEGIN:DAYLIGHT
TZNAME:CEST
DTSTART:20160327T020000
TZOFFSETFROM:+0100
TZOFFSETTO:+0200
RDATE:20170326T020000
END:DAYLIGHT
END:VTIMEZONE
BEGIN:VEVENT
UID:441f5fab-5fbe-4bc7-a404-4a455cbbefaf
DTSTAMP:20260420T165321Z
CATEGORIES:Livemusik
CLASS:PUBLIC
DESCRIPTION;ALTREP="CID:<FFFF__=0ABBE548DFE235B58f9e8a93d@coffeebean.com>":
 Ausgefallene Musik ist das Fach der zwei Musiker aus Mittweida\, wobei die
  beiden ausschließlich mit ihren Stimmen und zwei Gitarren musizieren.\nGe
 gründet wurde die Band im Februar 2011\, wobei hier noch kein Name existie
 rte. Dieser entwickelte sich dann erst gegen Mai\, als eines der Bandmitgl
 ieder sie unverhofft beim IMM Talentwettbewerb angemeldet hat. Der Name fi
 el ihm im Bad ein\, als er seine Antibekterielle Seife sah. So waren die K
 illers of Germs geboren und der Talentwettbewerb wurde gewonnen. So waren 
 sie gewillt weiter zu machen und der Rest ist Geschichte. Als Einflüsse ne
 nnt die Band 'Eindeutig David Bowie!' - freut euch auf einen schönen Abend
  mit guter ehrlicher Rockmusik!
DTSTART:20160910T210000Z
DTEND:20160910T210000Z
GEO:00;0
LOCATION:
ORGANIZER:
SEQUENCE:1
SUMMARY:Killers of Germs zur Freiberger Nachtschicht
TRANSP:OPAQUE
URL:https://www.minerspub.de/index.php/events/58-killers-of-germs-zur-freib
 erger-nachtschicht/2016-09-10-23-00
END:VEVENT
END:VCALENDAR
