BEGIN:VCALENDAR
VERSION:2.0
PRODID:-//Miners Pub - Ein Stück Irland in Freiberg//NONSGML kigkonsult.se 
 iCalcreator 2.30.10//
CALSCALE:GREGORIAN
METHOD:PUBLISH
UID:38929dd4-334f-4e05-b3a6-4182d37deae3
X-WR-CALNAME:iCagenda
X-WR-CALDESC:Event Management Extension for Joomla!
X-WR-RELCALID:3E26604A-50F4-4449-8B3E-E4F4932D05B5
X-WR-TIMEZONE:Europe/Berlin
BEGIN:VTIMEZONE
TZID:Europe/Berlin
BEGIN:STANDARD
TZNAME:CET
DTSTART:20151025T030000
TZOFFSETFROM:+0200
TZOFFSETTO:+0100
RDATE:20161030T030000
RDATE:20171029T030000
END:STANDARD
BEGIN:DAYLIGHT
TZNAME:CEST
DTSTART:20160327T020000
TZOFFSETFROM:+0100
TZOFFSETTO:+0200
RDATE:20170326T020000
END:DAYLIGHT
END:VTIMEZONE
BEGIN:VEVENT
UID:d9b1e0cf-a193-496e-86a4-9bf4e8e86cc4
DTSTAMP:20260420T164955Z
CATEGORIES:Partys
CLASS:PUBLIC
DESCRIPTION;ALTREP="CID:<FFFF__=0ABBE548DFE235B58f9e8a93d@coffeebean.com>":
 \nDas große Finale unseres EM Tippspiels mit der Pokalübergabe an die Sieg
 er und jede Menge Extra Preise zu gewinnen für alle die mitgetiptt haben.
 \n
DTSTART:20160716T170000Z
DTEND:20160716T170000Z
GEO:00;0
LOCATION:
ORGANIZER:
SEQUENCE:1
SUMMARY:Abschlussfeier des EM Tippspiel 2016
TRANSP:OPAQUE
URL:https://www.minerspub.de/index.php/events/59-abschlussfeier-des-em-tipp
 spiel-2016/2016-07-16-19-00
END:VEVENT
END:VCALENDAR
