BEGIN:VCALENDAR
VERSION:2.0
PRODID:-//Miners Pub - Ein Stück Irland in Freiberg//NONSGML kigkonsult.se 
 iCalcreator 2.30.10//
CALSCALE:GREGORIAN
METHOD:PUBLISH
UID:ded58640-7a54-4bc3-b38e-857ae4576b11
X-WR-CALNAME:iCagenda
X-WR-CALDESC:Event Management Extension for Joomla!
X-WR-RELCALID:3E26604A-50F4-4449-8B3E-E4F4932D05B5
X-WR-TIMEZONE:Europe/Berlin
BEGIN:VTIMEZONE
TZID:Europe/Berlin
BEGIN:STANDARD
TZNAME:CET
DTSTART:20151025T030000
TZOFFSETFROM:+0200
TZOFFSETTO:+0100
RDATE:20161030T030000
RDATE:20171029T030000
END:STANDARD
BEGIN:DAYLIGHT
TZNAME:CEST
DTSTART:20160327T020000
TZOFFSETFROM:+0100
TZOFFSETTO:+0200
RDATE:20170326T020000
END:DAYLIGHT
END:VTIMEZONE
BEGIN:VEVENT
UID:29b773e5-4ad4-473d-93bc-60587a88fc01
DTSTAMP:20260420T164905Z
CATEGORIES:Sonstige Veranstaltungen
CLASS:PUBLIC
DESCRIPTION;ALTREP="CID:<FFFF__=0ABBE548DFE235B58f9e8a93d@coffeebean.com>":
 Wir laden Euch herzlich ein zu unserem 2. Miners Pub Pokerturnier am 26.05
 .2016. Einlass ist 19 Uhr\, damit pünktlich um 20 Uhr gestartet werden kan
 n. Damit das ganze auch ein wenig stilvoll ist\, bitten wir alle Teilnehme
 r in Abendgarderobe zu erscheinen. Gespielt wird Texas Hold’em.\nDie Teiln
 ahme ist kostenlos. Es gibt Preise für die ersten drei Platzierungen.
DTSTART:20160526T170000Z
DTEND:20160526T170000Z
GEO:00;0
LOCATION:
ORGANIZER:
SEQUENCE:1
SUMMARY:2. Miners Pub Pokerturnier
TRANSP:OPAQUE
URL:https://www.minerspub.de/index.php/events/60-2-miners-pub-pokerturnier/
 2016-05-26-19-00
END:VEVENT
END:VCALENDAR
