BEGIN:VCALENDAR
VERSION:2.0
PRODID:-//Miners Pub - Ein Stück Irland in Freiberg//NONSGML kigkonsult.se 
 iCalcreator 2.30.10//
CALSCALE:GREGORIAN
METHOD:PUBLISH
UID:d1acd364-094f-4913-a260-d0e92ada81e6
X-WR-CALNAME:iCagenda
X-WR-CALDESC:Event Management Extension for Joomla!
X-WR-RELCALID:3E26604A-50F4-4449-8B3E-E4F4932D05B5
X-WR-TIMEZONE:Europe/Berlin
BEGIN:VTIMEZONE
TZID:Europe/Berlin
BEGIN:STANDARD
TZNAME:CET
DTSTART:20151025T030000
TZOFFSETFROM:+0200
TZOFFSETTO:+0100
RDATE:20161030T030000
END:STANDARD
BEGIN:DAYLIGHT
TZNAME:CEST
DTSTART:20160327T020000
TZOFFSETFROM:+0100
TZOFFSETTO:+0200
RDATE:20170326T020000
END:DAYLIGHT
END:VTIMEZONE
BEGIN:VEVENT
UID:c742419f-8734-4142-a8ab-a04ae0575f85
DTSTAMP:20260420T182405Z
CATEGORIES:Lesungen
CLASS:PUBLIC
DESCRIPTION;ALTREP="CID:<FFFF__=0ABBE548DFE235B58f9e8a93d@coffeebean.com>":
 Flo Durden lädt Sie ein auf eine Reise in die Tiefen der kalabrischen Mafi
 a. Gepaart ist der Roman „Es kommt immer anders\, als du denkst…“ mit deta
 ilgetreuen Einblicken in die Strukturen der italienischen Mafia.Drei Jugen
 dliche nehmen ihn auf\, den Kampf mit dem ortsansässigen Clan in der Küste
 nstadt Bovalino. Witz\, Spannung und Lesevergnügen – das kann ich Ihnen ve
 rsprechen.Die Lesungen von Flo Durden zeichnen sich aus durch treffende Mu
 sikuntermalung und einer Erzählart\, bei der es nicht langweilig wird.Über
 zeugen Sie sich selbst.
DTSTART:20160424T180000Z
DTEND:20160424T180000Z
GEO:00;0
LOCATION:
ORGANIZER:
SEQUENCE:1
SUMMARY:Flo Durden liest „Es kommt immer anders\, als du denkst…“
TRANSP:OPAQUE
URL:https://www.minerspub.de/index.php/events/61-flo-durden-liest-es-kommt-
 immer-anders-als-du-denkst/2016-04-24-20-00
END:VEVENT
END:VCALENDAR
