BEGIN:VCALENDAR
VERSION:2.0
PRODID:-//Miners Pub - Ein Stück Irland in Freiberg//NONSGML kigkonsult.se 
 iCalcreator 2.30.10//
CALSCALE:GREGORIAN
METHOD:PUBLISH
UID:754d90c7-55cd-4992-a7c7-1f551d993ce0
X-WR-CALNAME:iCagenda
X-WR-CALDESC:Event Management Extension for Joomla!
X-WR-RELCALID:3E26604A-50F4-4449-8B3E-E4F4932D05B5
X-WR-TIMEZONE:Europe/Berlin
BEGIN:VTIMEZONE
TZID:Europe/Berlin
BEGIN:STANDARD
TZNAME:CET
DTSTART:20151025T030000
TZOFFSETFROM:+0200
TZOFFSETTO:+0100
RDATE:20161030T030000
END:STANDARD
BEGIN:DAYLIGHT
TZNAME:CEST
DTSTART:20160327T020000
TZOFFSETFROM:+0100
TZOFFSETTO:+0200
RDATE:20170326T020000
END:DAYLIGHT
END:VTIMEZONE
BEGIN:VEVENT
UID:b0a5ca2b-4b4b-4d67-94dc-6bfb8aaf40f4
DTSTAMP:20260420T163810Z
CATEGORIES:Livemusik
CLASS:PUBLIC
DESCRIPTION;ALTREP="CID:<FFFF__=0ABBE548DFE235B58f9e8a93d@coffeebean.com>":
 Nachdem Rollsplitt mittlerweile fast jede Bühne der Region bespielt hat\, 
 ist es endlich an der Zeit\, dass er zum ersten Mal bei uns auftritt. Den 
 ganzen Abend mit guter Stimmung und toller Live-Musik - Kommt vorbei\, wir
  freuen uns auf euch!
DTSTART:20160416T190000Z
DTEND:20160416T190000Z
GEO:00;0
LOCATION:
ORGANIZER:
SEQUENCE:1
SUMMARY:Rollsplitt live
TRANSP:OPAQUE
URL:https://www.minerspub.de/index.php/events/62-rollsplitt-live-2/2016-04-
 16-21-00
END:VEVENT
END:VCALENDAR
