BEGIN:VCALENDAR
VERSION:2.0
PRODID:-//Miners Pub - Ein Stück Irland in Freiberg//NONSGML kigkonsult.se 
 iCalcreator 2.30.10//
CALSCALE:GREGORIAN
METHOD:PUBLISH
UID:5ee6b7ca-c8ae-43ae-a134-fdd449320453
X-WR-CALNAME:iCagenda
X-WR-CALDESC:Event Management Extension for Joomla!
X-WR-RELCALID:3E26604A-50F4-4449-8B3E-E4F4932D05B5
X-WR-TIMEZONE:Europe/Berlin
BEGIN:VTIMEZONE
TZID:Europe/Berlin
BEGIN:STANDARD
TZNAME:CET
DTSTART:20151025T030000
TZOFFSETFROM:+0200
TZOFFSETTO:+0100
RDATE:20161030T030000
END:STANDARD
BEGIN:DAYLIGHT
TZNAME:CEST
DTSTART:20150329T020000
TZOFFSETFROM:+0100
TZOFFSETTO:+0200
RDATE:20160327T020000
RDATE:20170326T020000
END:DAYLIGHT
END:VTIMEZONE
BEGIN:VEVENT
UID:fefe3fd1-f94d-4dbe-88fc-1ec8e957c18a
DTSTAMP:20260420T165212Z
CATEGORIES:Livemusik
CLASS:PUBLIC
DESCRIPTION;ALTREP="CID:<FFFF__=0ABBE548DFE235B58f9e8a93d@coffeebean.com>":
 Wir wollen mit Euch den wohl wichtigsten irischen Feiertag zelebrieren! Ab
  ca. 21 Uhr spielen 'The Readbreasts' live.
DTSTART:20160317T180000Z
DTEND:20160317T180000Z
GEO:00;0
LOCATION:
ORGANIZER:
SEQUENCE:1
SUMMARY:St. Patrick's Day Party 2016 mit The Redbreasts
TRANSP:OPAQUE
URL:https://www.minerspub.de/index.php/events/63-st-patricks-day-party-2016
 -mit-the-redbreasts/2016-03-17-19-00
END:VEVENT
END:VCALENDAR
