BEGIN:VCALENDAR
VERSION:2.0
PRODID:-//Miners Pub - Ein Stück Irland in Freiberg//NONSGML kigkonsult.se 
 iCalcreator 2.30.10//
CALSCALE:GREGORIAN
METHOD:PUBLISH
UID:7ef3be9f-4eb7-49bc-ab97-c53084f866f1
X-WR-CALNAME:iCagenda
X-WR-CALDESC:Event Management Extension for Joomla!
X-WR-RELCALID:3E26604A-50F4-4449-8B3E-E4F4932D05B5
X-WR-TIMEZONE:Europe/Berlin
BEGIN:VTIMEZONE
TZID:Europe/Berlin
BEGIN:STANDARD
TZNAME:CET
DTSTART:20151025T030000
TZOFFSETFROM:+0200
TZOFFSETTO:+0100
RDATE:20161030T030000
END:STANDARD
BEGIN:DAYLIGHT
TZNAME:CEST
DTSTART:20150329T020000
TZOFFSETFROM:+0100
TZOFFSETTO:+0200
RDATE:20160327T020000
RDATE:20170326T020000
END:DAYLIGHT
END:VTIMEZONE
BEGIN:VEVENT
UID:2329b8c8-ec2d-46d4-9bfa-209d65097ff9
DTSTAMP:20260420T165116Z
CATEGORIES:Sportübertragungen
CLASS:PUBLIC
DESCRIPTION;ALTREP="CID:<FFFF__=0ABBE548DFE235B58f9e8a93d@coffeebean.com>":
 Nach dem sehr erfolgreichen vergangenen Sportwochenende\, steht das nächst
 e Highlight schon auf dem Programm. Wir wollen uns mit euch die Nacht um d
 ie Ohren schlagen\, wenn am Sonntag im Super Bowl 50 die Denver Broncos au
 f die Carolina Panthers treffen.Spannung und gute Stimmung ist garantiert.
  Wir freuen uns auf euch!
DTSTART:20160207T191500Z
DTEND:20160207T191500Z
GEO:00;0
LOCATION:
ORGANIZER:
SEQUENCE:1
SUMMARY:Super Bowl 50 Party | Broncos vs. Panthers
TRANSP:OPAQUE
URL:https://www.minerspub.de/index.php/events/65-super-bowl-50-party-bronco
 s-vs-panthers/2016-02-07-20-15
END:VEVENT
END:VCALENDAR
