BEGIN:VCALENDAR
VERSION:2.0
PRODID:-//Miners Pub - Ein Stück Irland in Freiberg//NONSGML kigkonsult.se 
 iCalcreator 2.30.10//
CALSCALE:GREGORIAN
METHOD:PUBLISH
UID:dc4710ec-f777-4439-aedf-4f9e2f2ecad3
X-WR-CALNAME:iCagenda
X-WR-CALDESC:Event Management Extension for Joomla!
X-WR-RELCALID:3E26604A-50F4-4449-8B3E-E4F4932D05B5
X-WR-TIMEZONE:Europe/Berlin
BEGIN:VTIMEZONE
TZID:Europe/Berlin
BEGIN:STANDARD
TZNAME:CET
DTSTART:20151025T030000
TZOFFSETFROM:+0200
TZOFFSETTO:+0100
RDATE:20161030T030000
END:STANDARD
BEGIN:DAYLIGHT
TZNAME:CEST
DTSTART:20150329T020000
TZOFFSETFROM:+0100
TZOFFSETTO:+0200
RDATE:20160327T020000
RDATE:20170326T020000
END:DAYLIGHT
END:VTIMEZONE
BEGIN:VEVENT
UID:d4189837-79b6-4295-9ed0-95c340cd42ad
DTSTAMP:20260420T165331Z
CATEGORIES:Sportübertragungen
CLASS:PUBLIC
DESCRIPTION;ALTREP="CID:<FFFF__=0ABBE548DFE235B58f9e8a93d@coffeebean.com>":
 \nWir zeigen euch das Finale der Handball EM bei uns auf zwei Bildschirmen
 .\n
DTSTART:20160131T163000Z
DTEND:20160131T163000Z
GEO:00;0
LOCATION:
ORGANIZER:
SEQUENCE:1
SUMMARY:Handball EM 2016 | Finale Deutschland - Spanien
TRANSP:OPAQUE
URL:https://www.minerspub.de/index.php/events/66-handball-em-2016-finale-de
 utschland-spanien/2016-01-31-17-30
END:VEVENT
END:VCALENDAR
