BEGIN:VCALENDAR
VERSION:2.0
PRODID:-//Miners Pub - Ein Stück Irland in Freiberg//NONSGML kigkonsult.se 
 iCalcreator 2.30.10//
CALSCALE:GREGORIAN
METHOD:PUBLISH
UID:1a4afcca-4b8a-4bfa-862f-18c3e8f62062
X-WR-CALNAME:iCagenda
X-WR-CALDESC:Event Management Extension for Joomla!
X-WR-RELCALID:3E26604A-50F4-4449-8B3E-E4F4932D05B5
X-WR-TIMEZONE:Europe/Berlin
BEGIN:VTIMEZONE
TZID:Europe/Berlin
BEGIN:STANDARD
TZNAME:CET
DTSTART:20151025T030000
TZOFFSETFROM:+0200
TZOFFSETTO:+0100
RDATE:20161030T030000
END:STANDARD
BEGIN:DAYLIGHT
TZNAME:CEST
DTSTART:20150329T020000
TZOFFSETFROM:+0100
TZOFFSETTO:+0200
RDATE:20160327T020000
RDATE:20170326T020000
END:DAYLIGHT
END:VTIMEZONE
BEGIN:VEVENT
UID:181faf6e-6158-499c-b2ef-251d5283ff6c
DTSTAMP:20260420T182405Z
CATEGORIES:Livemusik
CLASS:PUBLIC
DESCRIPTION;ALTREP="CID:<FFFF__=0ABBE548DFE235B58f9e8a93d@coffeebean.com>":
 Das Miners Pub - Team feiert seinen 2. Geburtstag und lädt alle\, die sich
  das nicht entgehen lassen wollen\, zu einer rauschenden Partynacht ein. F
 ür die passende musikalische Unterhaltung sorgt diesmal Blue Ways.
DTSTART:20160116T180000Z
DTEND:20160116T180000Z
GEO:00;0
LOCATION:
ORGANIZER:
SEQUENCE:1
SUMMARY:Miners Pub - Geburtstagsparty mit Blue Ways
TRANSP:OPAQUE
URL:https://www.minerspub.de/index.php/events/68-miners-pub-geburtstagspart
 y-mit-blue-ways/2016-01-16-19-00
END:VEVENT
END:VCALENDAR
