BEGIN:VCALENDAR
VERSION:2.0
PRODID:-//Miners Pub - Ein Stück Irland in Freiberg//NONSGML kigkonsult.se 
 iCalcreator 2.30.10//
CALSCALE:GREGORIAN
METHOD:PUBLISH
UID:6072d49a-278c-4c0d-aac4-1fb643c0d7e6
X-WR-CALNAME:iCagenda
X-WR-CALDESC:Event Management Extension for Joomla!
X-WR-RELCALID:3E26604A-50F4-4449-8B3E-E4F4932D05B5
X-WR-TIMEZONE:Europe/Berlin
BEGIN:VTIMEZONE
TZID:Europe/Berlin
BEGIN:STANDARD
TZNAME:CET
DTSTART:20151025T030000
TZOFFSETFROM:+0200
TZOFFSETTO:+0100
RDATE:20161030T030000
END:STANDARD
BEGIN:DAYLIGHT
TZNAME:CEST
DTSTART:20150329T020000
TZOFFSETFROM:+0100
TZOFFSETTO:+0200
RDATE:20160327T020000
RDATE:20170326T020000
END:DAYLIGHT
END:VTIMEZONE
BEGIN:VEVENT
UID:e3afd16a-73b5-49e3-85d9-253b7d81fcf0
DTSTAMP:20260420T165504Z
CATEGORIES:Livemusik
CLASS:PUBLIC
DESCRIPTION;ALTREP="CID:<FFFF__=0ABBE548DFE235B58f9e8a93d@coffeebean.com>":
 Andreas Schirneck präsnetiert live im Miners Pub einen abendfüllender Ritt
  durch das über 40-jährige Schaffen des Meisters.\n
DTSTART:20151107T190000Z
DTEND:20151107T190000Z
GEO:00;0
LOCATION:
ORGANIZER:
SEQUENCE:1
SUMMARY:Acoustic Young - Neil Young Songs unplugged
TRANSP:OPAQUE
URL:https://www.minerspub.de/index.php/events/70-acoustic-young-neil-young-
 songs-unplugged/2015-11-07-20-00
END:VEVENT
END:VCALENDAR
