BEGIN:VCALENDAR
VERSION:2.0
PRODID:-//Miners Pub - Ein Stück Irland in Freiberg//NONSGML kigkonsult.se 
 iCalcreator 2.30.10//
CALSCALE:GREGORIAN
METHOD:PUBLISH
UID:61cefeca-f368-4289-a840-891ed887cf01
X-WR-CALNAME:iCagenda
X-WR-CALDESC:Event Management Extension for Joomla!
X-WR-RELCALID:3E26604A-50F4-4449-8B3E-E4F4932D05B5
X-WR-TIMEZONE:Europe/Berlin
BEGIN:VTIMEZONE
TZID:Europe/Berlin
BEGIN:STANDARD
TZNAME:CET
DTSTART:20141026T030000
TZOFFSETFROM:+0200
TZOFFSETTO:+0100
RDATE:20151025T030000
RDATE:20161030T030000
END:STANDARD
BEGIN:DAYLIGHT
TZNAME:CEST
DTSTART:20150329T020000
TZOFFSETFROM:+0100
TZOFFSETTO:+0200
RDATE:20160327T020000
RDATE:20170326T020000
END:DAYLIGHT
END:VTIMEZONE
BEGIN:VEVENT
UID:496f7b2e-5bc1-4d2f-972f-467b2dad23f4
DTSTAMP:20260420T165447Z
CATEGORIES:Livemusik
CLASS:PUBLIC
DESCRIPTION;ALTREP="CID:<FFFF__=0ABBE548DFE235B58f9e8a93d@coffeebean.com>":
 Einlass ab 19 Uhr
DTSTART:20151013T180000Z
DTEND:20151013T180000Z
GEO:00;0
LOCATION:
ORGANIZER:
SEQUENCE:1
SUMMARY:LIVE Musik mit Kristian Schulze | Solo Project
TRANSP:OPAQUE
URL:https://www.minerspub.de/index.php/events/72-live-musik-mit-kristian-sc
 hulze-solo-project-2/2015-10-13-20-00
END:VEVENT
END:VCALENDAR
