BEGIN:VCALENDAR
VERSION:2.0
PRODID:-//Miners Pub - Ein Stück Irland in Freiberg//NONSGML kigkonsult.se 
 iCalcreator 2.30.10//
CALSCALE:GREGORIAN
METHOD:PUBLISH
UID:ece37844-8a0c-4405-8e4b-4edf40254e29
X-WR-CALNAME:iCagenda
X-WR-CALDESC:Event Management Extension for Joomla!
X-WR-RELCALID:3E26604A-50F4-4449-8B3E-E4F4932D05B5
X-WR-TIMEZONE:Europe/Berlin
BEGIN:VTIMEZONE
TZID:Europe/Berlin
BEGIN:STANDARD
TZNAME:CET
DTSTART:20141026T030000
TZOFFSETFROM:+0200
TZOFFSETTO:+0100
RDATE:20151025T030000
RDATE:20161030T030000
END:STANDARD
BEGIN:DAYLIGHT
TZNAME:CEST
DTSTART:20150329T020000
TZOFFSETFROM:+0100
TZOFFSETTO:+0200
RDATE:20160327T020000
RDATE:20170326T020000
END:DAYLIGHT
END:VTIMEZONE
BEGIN:VEVENT
UID:e9712c9f-5c73-4aca-8fc8-c5e2d84f93e1
DTSTAMP:20260420T182206Z
CATEGORIES:Partys
CLASS:PUBLIC
DESCRIPTION:
DTSTART:20151008T170000Z
DTEND:20151008T170000Z
GEO:00;0
LOCATION:
ORGANIZER:
SEQUENCE:1
SUMMARY:12. Freiberger Kneipen Rallye
TRANSP:OPAQUE
URL:https://www.minerspub.de/index.php/events/73-12-freiberger-kneipen-rall
 ye/2015-10-08-19-00
END:VEVENT
END:VCALENDAR
