BEGIN:VCALENDAR
VERSION:2.0
PRODID:-//Miners Pub - Ein Stück Irland in Freiberg//NONSGML kigkonsult.se 
 iCalcreator 2.30.10//
CALSCALE:GREGORIAN
METHOD:PUBLISH
UID:db28151d-b120-42e3-830b-33a0681eddf6
X-WR-CALNAME:iCagenda
X-WR-CALDESC:Event Management Extension for Joomla!
X-WR-RELCALID:3E26604A-50F4-4449-8B3E-E4F4932D05B5
X-WR-TIMEZONE:Europe/Berlin
BEGIN:VTIMEZONE
TZID:Europe/Berlin
BEGIN:STANDARD
TZNAME:CET
DTSTART:20141026T030000
TZOFFSETFROM:+0200
TZOFFSETTO:+0100
RDATE:20151025T030000
RDATE:20161030T030000
END:STANDARD
BEGIN:DAYLIGHT
TZNAME:CEST
DTSTART:20150329T020000
TZOFFSETFROM:+0100
TZOFFSETTO:+0200
RDATE:20160327T020000
END:DAYLIGHT
END:VTIMEZONE
BEGIN:VEVENT
UID:3fc062c1-9b0d-4ea9-998c-936f19844e07
DTSTAMP:20260420T183527Z
CATEGORIES:Livemusik
CLASS:PUBLIC
DESCRIPTION;ALTREP="CID:<FFFF__=0ABBE548DFE235B58f9e8a93d@coffeebean.com>":
 Der Arthur's Day wurde im Jahr 2009 in Erinnerung an Arthur Guinness ins L
 eben gerufen. An diesem Tag soll um von jedem Guinnesstrinker ein Glas Gui
 nness in den Himmel gereckt werden. Wir feiern natürlich mit und bieten Eu
 ch außerdem noch Live-Musik mit The Redbreasts.Wir freuen uns auf Euren Be
 such!
DTSTART:20150922T170000Z
DTEND:20150922T170000Z
GEO:00;0
LOCATION:
ORGANIZER:
SEQUENCE:1
SUMMARY:Arthur's Day 2015 | LIVE Musik mit The Redbreasts
TRANSP:OPAQUE
URL:https://www.minerspub.de/index.php/events/75-arthurs-day-2015-live-musi
 k-mit-the-redbreasts/2015-09-22-19-00
END:VEVENT
END:VCALENDAR
