BEGIN:VCALENDAR
VERSION:2.0
PRODID:-//Miners Pub - Ein Stück Irland in Freiberg//NONSGML kigkonsult.se 
 iCalcreator 2.30.10//
CALSCALE:GREGORIAN
METHOD:PUBLISH
UID:8f0bfcc8-ff48-4c1a-988b-08f0fa112fec
X-WR-CALNAME:iCagenda
X-WR-CALDESC:Event Management Extension for Joomla!
X-WR-RELCALID:3E26604A-50F4-4449-8B3E-E4F4932D05B5
X-WR-TIMEZONE:Europe/Berlin
BEGIN:VTIMEZONE
TZID:Europe/Berlin
BEGIN:STANDARD
TZNAME:CET
DTSTART:20141026T030000
TZOFFSETFROM:+0200
TZOFFSETTO:+0100
RDATE:20151025T030000
RDATE:20161030T030000
END:STANDARD
BEGIN:DAYLIGHT
TZNAME:CEST
DTSTART:20150329T020000
TZOFFSETFROM:+0100
TZOFFSETTO:+0200
RDATE:20160327T020000
END:DAYLIGHT
END:VTIMEZONE
BEGIN:VEVENT
UID:3f56d3bb-8e9d-4350-9c47-7384d5896100
DTSTAMP:20260420T165030Z
CATEGORIES:Sonstige Veranstaltungen
CLASS:PUBLIC
DESCRIPTION;ALTREP="CID:<FFFF__=0ABBE548DFE235B58f9e8a93d@coffeebean.com>":
 Wir laden Euch herzlich ein zu unserem 1. Miners Pub Pokerturnier am 09.09
 .2015. Einlass ist 19 Uhr\, damit pünktlich um 20 Uhr gestartet werden kan
 n. Damit das ganze auch ein wenig stilvoll ist\, bitten wir alle Teilnehme
 r in Abendgarderobe zu erscheinen. Gespielt wird Texas Hold’em.\nDie Teiln
 ahme ist absolut kostenlos und es gibt auch Preise für die ersten drei Pla
 tzierungen.
DTSTART:20150909T180000Z
DTEND:20150909T180000Z
GEO:00;0
LOCATION:
ORGANIZER:
SEQUENCE:1
SUMMARY:1. Miners Pub Pokerturnier
TRANSP:OPAQUE
URL:https://www.minerspub.de/index.php/events/76-1-miners-pub-pokerturnier/
 2015-09-09-20-00
END:VEVENT
END:VCALENDAR
