BEGIN:VCALENDAR
VERSION:2.0
PRODID:-//Miners Pub - Ein Stück Irland in Freiberg//NONSGML kigkonsult.se 
 iCalcreator 2.30.10//
CALSCALE:GREGORIAN
METHOD:PUBLISH
UID:014f2f30-d63c-4ba5-a76f-0e175e7fe49b
X-WR-CALNAME:iCagenda
X-WR-CALDESC:Event Management Extension for Joomla!
X-WR-RELCALID:3E26604A-50F4-4449-8B3E-E4F4932D05B5
X-WR-TIMEZONE:Europe/Berlin
BEGIN:VTIMEZONE
TZID:Europe/Berlin
BEGIN:STANDARD
TZNAME:CET
DTSTART:20141026T030000
TZOFFSETFROM:+0200
TZOFFSETTO:+0100
RDATE:20151025T030000
RDATE:20161030T030000
END:STANDARD
BEGIN:DAYLIGHT
TZNAME:CEST
DTSTART:20150329T020000
TZOFFSETFROM:+0100
TZOFFSETTO:+0200
RDATE:20160327T020000
END:DAYLIGHT
END:VTIMEZONE
BEGIN:VEVENT
UID:daf4f1a8-aa53-4956-b6ac-0679a399adfe
DTSTAMP:20260420T182508Z
CATEGORIES:Livemusik
CLASS:PUBLIC
DESCRIPTION;ALTREP="CID:<FFFF__=0ABBE548DFE235B58f9e8a93d@coffeebean.com>":
 Am 23. &amp\; 24. Mai wird es mal wieder international im Miners Pub. Wir 
 präsentieren Euch stolz den schottischen Folkmusiker LIVE Musik mit Tony R
 ose der mittlerweile in Prag zuhause ist.
DTSTART:20150523T170000Z
DTEND:20150523T170000Z
GEO:00;0
LOCATION:
ORGANIZER:
SEQUENCE:1
SUMMARY:LIVE Musik mit Tony Rose
TRANSP:OPAQUE
URL:https://www.minerspub.de/index.php/events/78-live-musik-mit-tony-rose-2
 /2015-05-23-19-00
END:VEVENT
END:VCALENDAR
