BEGIN:VCALENDAR
VERSION:2.0
PRODID:-//Miners Pub - Ein Stück Irland in Freiberg//NONSGML kigkonsult.se 
 iCalcreator 2.30.10//
CALSCALE:GREGORIAN
METHOD:PUBLISH
UID:bb237716-6936-4ef4-a856-e2cb54b2244d
X-WR-CALNAME:iCagenda
X-WR-CALDESC:Event Management Extension for Joomla!
X-WR-RELCALID:3E26604A-50F4-4449-8B3E-E4F4932D05B5
X-WR-TIMEZONE:Europe/Berlin
BEGIN:VTIMEZONE
TZID:Europe/Berlin
BEGIN:STANDARD
TZNAME:CET
DTSTART:20141026T030000
TZOFFSETFROM:+0200
TZOFFSETTO:+0100
RDATE:20151025T030000
END:STANDARD
BEGIN:DAYLIGHT
TZNAME:CEST
DTSTART:20150329T020000
TZOFFSETFROM:+0100
TZOFFSETTO:+0200
RDATE:20160327T020000
END:DAYLIGHT
END:VTIMEZONE
BEGIN:VEVENT
UID:b099e538-39a2-4682-b654-ad5b530d5503
DTSTAMP:20260420T164823Z
CATEGORIES:Livemusik
CLASS:PUBLIC
DESCRIPTION:
DTSTART:20150401T180000Z
DTEND:20150401T180000Z
GEO:00;0
LOCATION:
ORGANIZER:
SEQUENCE:1
SUMMARY:2. Miners Pub SongSlam
TRANSP:OPAQUE
URL:https://www.minerspub.de/index.php/events/80-2-miners-pub-songslam/2015
 -04-01-20-00
END:VEVENT
END:VCALENDAR
