BEGIN:VCALENDAR
VERSION:2.0
PRODID:-//Miners Pub - Ein Stück Irland in Freiberg//NONSGML kigkonsult.se 
 iCalcreator 2.30.10//
CALSCALE:GREGORIAN
METHOD:PUBLISH
UID:0fad70ef-b538-4005-9fd9-1ea438e58597
X-WR-CALNAME:iCagenda
X-WR-CALDESC:Event Management Extension for Joomla!
X-WR-RELCALID:3E26604A-50F4-4449-8B3E-E4F4932D05B5
X-WR-TIMEZONE:Europe/Berlin
BEGIN:VTIMEZONE
TZID:Europe/Berlin
BEGIN:STANDARD
TZNAME:CET
DTSTART:20141026T030000
TZOFFSETFROM:+0200
TZOFFSETTO:+0100
RDATE:20151025T030000
END:STANDARD
BEGIN:DAYLIGHT
TZNAME:CEST
DTSTART:20140330T020000
TZOFFSETFROM:+0100
TZOFFSETTO:+0200
RDATE:20150329T020000
RDATE:20160327T020000
END:DAYLIGHT
END:VTIMEZONE
BEGIN:VEVENT
UID:5f956104-a0f8-4575-85f0-3c5bfdd25d78
DTSTAMP:20260420T165612Z
CATEGORIES:Sportübertragungen
CLASS:PUBLIC
DESCRIPTION;ALTREP="CID:<FFFF__=0ABBE548DFE235B58f9e8a93d@coffeebean.com>":
 Erlebt mit uns gemeinsam das größte Sportevent der USA\, wenn im 49. Super
  Bowl Vorjahressieger Seattle auf die New England Patriots\, mit dem deuts
 chen Offensive Tackle Sebastian Vollmer\, trifft.
DTSTART:20150201T210000Z
DTEND:20150201T210000Z
GEO:00;0
LOCATION:
ORGANIZER:
SEQUENCE:1
SUMMARY:Super Bowl XLIX | New England Patriots vs. Seattle Seahawks
TRANSP:OPAQUE
URL:https://www.minerspub.de/index.php/events/82-super-bowl-xlix-new-englan
 d-patriots-vs-seattle-seahawks/2015-02-01-22-00
END:VEVENT
END:VCALENDAR
