BEGIN:VCALENDAR
VERSION:2.0
PRODID:-//Miners Pub - Ein Stück Irland in Freiberg//NONSGML kigkonsult.se 
 iCalcreator 2.30.10//
CALSCALE:GREGORIAN
METHOD:PUBLISH
UID:f1e02d99-fbc3-4beb-8861-ab5c75a9246c
X-WR-CALNAME:iCagenda
X-WR-CALDESC:Event Management Extension for Joomla!
X-WR-RELCALID:3E26604A-50F4-4449-8B3E-E4F4932D05B5
X-WR-TIMEZONE:Europe/Berlin
BEGIN:VTIMEZONE
TZID:Europe/Berlin
BEGIN:STANDARD
TZNAME:CET
DTSTART:20141026T030000
TZOFFSETFROM:+0200
TZOFFSETTO:+0100
RDATE:20151025T030000
END:STANDARD
BEGIN:DAYLIGHT
TZNAME:CEST
DTSTART:20140330T020000
TZOFFSETFROM:+0100
TZOFFSETTO:+0200
RDATE:20150329T020000
RDATE:20160327T020000
END:DAYLIGHT
END:VTIMEZONE
BEGIN:VEVENT
UID:f104f88a-4503-4cea-a01c-3b943f563fcd
DTSTAMP:20260420T164752Z
CATEGORIES:Livemusik
CLASS:PUBLIC
DESCRIPTION;ALTREP="CID:<FFFF__=0ABBE548DFE235B58f9e8a93d@coffeebean.com>":
 Das Miners Pub - Team feiert seinen 1. Geburtstag und lädt alle\, die sich
  das nicht entgehen lassen wollen\, zu einer rauschenden Partynacht ein. F
 ür die passende musikalische Unterhaltung sorgt dabei der Solo-Musiker Pas
 cal Bretschneider
DTSTART:20150110T180000Z
DTEND:20150110T180000Z
GEO:00;0
LOCATION:
ORGANIZER:
SEQUENCE:1
SUMMARY:Miners Pub - Geburtstagsparty
TRANSP:OPAQUE
URL:https://www.minerspub.de/index.php/events/83-miners-pub-geburtstagspart
 y/2015-01-10-19-00
END:VEVENT
END:VCALENDAR
