BEGIN:VCALENDAR
VERSION:2.0
PRODID:-//Miners Pub - Ein Stück Irland in Freiberg//NONSGML kigkonsult.se 
 iCalcreator 2.30.10//
CALSCALE:GREGORIAN
METHOD:PUBLISH
UID:7c567b82-f360-4505-b928-dc7e580ec662
X-WR-CALNAME:iCagenda
X-WR-CALDESC:Event Management Extension for Joomla!
X-WR-RELCALID:3E26604A-50F4-4449-8B3E-E4F4932D05B5
X-WR-TIMEZONE:Europe/Berlin
BEGIN:VTIMEZONE
TZID:Europe/Berlin
BEGIN:STANDARD
TZNAME:CET
DTSTART:20141026T030000
TZOFFSETFROM:+0200
TZOFFSETTO:+0100
RDATE:20151025T030000
END:STANDARD
BEGIN:DAYLIGHT
TZNAME:CEST
DTSTART:20140330T020000
TZOFFSETFROM:+0100
TZOFFSETTO:+0200
RDATE:20150329T020000
RDATE:20160327T020000
END:DAYLIGHT
END:VTIMEZONE
BEGIN:VEVENT
UID:8499de9e-4187-48df-860b-66e28ae5514c
DTSTAMP:20260420T164906Z
CATEGORIES:Livemusik
CLASS:PUBLIC
DESCRIPTION:
DTSTART:20141210T190000Z
DTEND:20141210T190000Z
GEO:00;0
LOCATION:
ORGANIZER:
SEQUENCE:1
SUMMARY:1. Miners Pub SongSlam
TRANSP:OPAQUE
URL:https://www.minerspub.de/index.php/events/84-1-miners-pub-songslam/2014
 -12-10-20-00
END:VEVENT
END:VCALENDAR
