BEGIN:VCALENDAR
VERSION:2.0
PRODID:-//Miners Pub - Ein Stück Irland in Freiberg//NONSGML kigkonsult.se 
 iCalcreator 2.30.10//
CALSCALE:GREGORIAN
METHOD:PUBLISH
UID:1e6594ba-82be-40c6-a272-90e2b9ddc2c7
X-WR-CALNAME:iCagenda
X-WR-CALDESC:Event Management Extension for Joomla!
X-WR-RELCALID:3E26604A-50F4-4449-8B3E-E4F4932D05B5
X-WR-TIMEZONE:Europe/Berlin
BEGIN:VTIMEZONE
TZID:Europe/Berlin
BEGIN:STANDARD
TZNAME:CET
DTSTART:20131027T030000
TZOFFSETFROM:+0200
TZOFFSETTO:+0100
RDATE:20141026T030000
RDATE:20151025T030000
END:STANDARD
BEGIN:DAYLIGHT
TZNAME:CEST
DTSTART:20140330T020000
TZOFFSETFROM:+0100
TZOFFSETTO:+0200
RDATE:20150329T020000
RDATE:20160327T020000
END:DAYLIGHT
END:VTIMEZONE
BEGIN:VEVENT
UID:08c21c00-6448-4238-b668-3bddb084ca5b
DTSTAMP:20260420T165413Z
CATEGORIES:Livemusik
CLASS:PUBLIC
DESCRIPTION;ALTREP="CID:<FFFF__=0ABBE548DFE235B58f9e8a93d@coffeebean.com>":
 \nHammada spielen zur 11. Freiberger Kneipenrallye ein Akustik-Set von ihr
 en Liedern und Coversongs.\n
DTSTART:20141009T190000Z
DTEND:20141009T190000Z
GEO:00;0
LOCATION:
ORGANIZER:
SEQUENCE:1
SUMMARY:hammada LIVE zur 11. Freiberger Kneipen Rallye
TRANSP:OPAQUE
URL:https://www.minerspub.de/index.php/events/85-hammada-live-zur-11-freibe
 rger-kneipen-rallye/2014-10-09-21-00
END:VEVENT
END:VCALENDAR
