BEGIN:VCALENDAR
VERSION:2.0
PRODID:-//Miners Pub - Ein Stück Irland in Freiberg//NONSGML kigkonsult.se 
 iCalcreator 2.30.10//
CALSCALE:GREGORIAN
METHOD:PUBLISH
UID:5ba4ffdd-be75-4bb7-b9da-d2e5d43928a5
X-WR-CALNAME:iCagenda
X-WR-CALDESC:Event Management Extension for Joomla!
X-WR-RELCALID:3E26604A-50F4-4449-8B3E-E4F4932D05B5
X-WR-TIMEZONE:Europe/Berlin
BEGIN:VTIMEZONE
TZID:Europe/Berlin
BEGIN:STANDARD
TZNAME:CET
DTSTART:20251026T030000
TZOFFSETFROM:+0200
TZOFFSETTO:+0100
RDATE:20261025T030000
END:STANDARD
BEGIN:DAYLIGHT
TZNAME:CEST
DTSTART:20250330T020000
TZOFFSETFROM:+0100
TZOFFSETTO:+0200
RDATE:20260329T020000
RDATE:20270328T020000
END:DAYLIGHT
END:VTIMEZONE
BEGIN:VEVENT
UID:bae90e16-5520-4751-a027-cd41d1748a86
DTSTAMP:20260420T150104Z
CATEGORIES:Livemusik
CLASS:PUBLIC
DESCRIPTION;ALTREP="CID:<FFFF__=0ABBE548DFE235B58f9e8a93d@coffeebean.com>":
 Er ist einer der „alten Hasen“ der Folkmusik in Deutschland\, insbesondere
  des Irish Folk und der Musik der 70’er. „Uli Kirsch spielt auf der Gitarr
 e irische Folksongs\, als wäre er damit aufgewachsen. Er sieht aus wie ein
  Ire und singt wie ein Ire“ (Altmark-Zeitung. 08/00). „Sogar Iren halten K
 irsch für einen Landsmann. (…) Doch der Eindruck\, den er hinterläßt\, rüh
 rt auch nicht so sehr aus der Sprache als vielmehr aus seiner gewaltigen\,
  rauchigen Stimme und der Leidenschaft\, mit der er seine Songs spielt“ (V
 olksstimme Salzwedel\, 08/00).\n{avsplayer id=3}
DTSTART:20260320T180000Z
DTEND:20260320T180000Z
GEO:00;0
LOCATION:
ORGANIZER:
SEQUENCE:1
SUMMARY:St. Patricks Day Party 2026 mit Uli Kirsch live
TRANSP:OPAQUE
URL:https://www.minerspub.de/index.php/events/117-st-patricks-day-party-202
 6-mit-uli-kirsch-live/2026-03-20-19-00
END:VEVENT
END:VCALENDAR
